BEGIN:VCALENDAR
VERSION:2.0
PRODID:spatie/icalendar-generator
DESCRIPTION:Händelser från Vingåkers OK
X-WR-CALDESC:Händelser från Vingåkers OK
REFRESH-INTERVAL;VALUE=DURATION:PT1440M
X-PUBLISHED-TTL:PT1440M
BEGIN:VTIMEZONE
TZID:Europe/Stockholm
BEGIN:STANDARD
DTSTART:20251026T030000Z
TZOFFSETFROM:+0200
TZOFFSETTO:+0100
END:STANDARD
BEGIN:DAYLIGHT
DTSTART:20260329T020000Z
TZOFFSETFROM:+0100
TZOFFSETTO:+0200
END:DAYLIGHT
BEGIN:STANDARD
DTSTART:20261025T030000Z
TZOFFSETFROM:+0200
TZOFFSETTO:+0100
END:STANDARD
END:VTIMEZONE
BEGIN:VTIMEZONE
TZID:UTC
BEGIN:STANDARD
DTSTART:20250729T170619Z
TZOFFSETFROM:+0000
TZOFFSETTO:+0000
END:STANDARD
END:VTIMEZONE
BEGIN:VEVENT
UID:238-135
DTSTAMP:20260425T170619Z
SUMMARY:Veckans bana Högsättersbomen v.16-v.17
LOCATION:Högsättersbomen 58°59\\'10.7\\\"N 15°53\\'01.4\\\"E  Vingåker
  Södermanlands län
ORGANIZER;CN=Christopher Andersson:MAILTO:chrille186@gmail.com
DTSTART;TZID=Europe/Stockholm;VALUE=DATE:20260413
DTEND;TZID=Europe/Stockholm;VALUE=DATE:20260424
X-ALT-DESC;FMTTYPE=TEXT/HTML:<p>Veckans bana ute i skogen är markerade med
  vit snitsel. \"Läs mer\" för egen kartutskift<br />\nFör frågor samt 
 kartutskrift meddela Christopher 0707603273 eller chrille186@gmail.com.</p>\n
CATEGORIES:Veckans Bana
URL;VALUE=URI:https://vingakersok.se/?mc-events=veckans-bana-hogsattersbome
 n-v-16-v-17
METHOD:PUBLISH
END:VEVENT
END:VCALENDAR