BEGIN:VCALENDAR
VERSION:2.0
PRODID:spatie/icalendar-generator
DESCRIPTION:Händelser från Vingåkers OK
X-WR-CALDESC:Händelser från Vingåkers OK
REFRESH-INTERVAL;VALUE=DURATION:PT1440M
X-PUBLISHED-TTL:PT1440M
BEGIN:VTIMEZONE
TZID:Europe/Stockholm
BEGIN:STANDARD
DTSTART:20251026T030000Z
TZOFFSETFROM:+0200
TZOFFSETTO:+0100
END:STANDARD
BEGIN:DAYLIGHT
DTSTART:20260329T020000Z
TZOFFSETFROM:+0100
TZOFFSETTO:+0200
END:DAYLIGHT
BEGIN:STANDARD
DTSTART:20261025T030000Z
TZOFFSETFROM:+0200
TZOFFSETTO:+0100
END:STANDARD
END:VTIMEZONE
BEGIN:VTIMEZONE
TZID:UTC
BEGIN:STANDARD
DTSTART:20250729T170935Z
TZOFFSETFROM:+0000
TZOFFSETTO:+0000
END:STANDARD
END:VTIMEZONE
BEGIN:VEVENT
UID:218-147
DTSTAMP:20260425T170935Z
SUMMARY:UH-kampen\, dag 2 (OK Motala)
LOCATION:
ORGANIZER;CN=Christopher Andersson:MAILTO:chrille186@gmail.com
DTSTART;TZID=Europe/Stockholm;VALUE=DATE:20260426
DTEND;TZID=Europe/Stockholm;VALUE=DATE:20260427
X-ALT-DESC;FMTTYPE=TEXT/HTML:<p>Om man vill åka i samlad trupp kommer vi f
 rån klubben att samlas vid Marsjö korsning. OM man vill åka tillsammans
  eller ha följare under banan\, samt låna si-pinne\, kompass\, definitio
 nshållare meddela Christopher på 070-760 32 73 eller chrille186@gmail.co
 m.</p>\n
CATEGORIES:Tävlingar
URL;VALUE=URI:https://vingakersok.se/?mc-events=uh-kampen-dag-2-ok-motala
METHOD:PUBLISH
END:VEVENT
END:VCALENDAR