BEGIN:VCALENDAR
VERSION:2.0
PRODID:spatie/icalendar-generator
DESCRIPTION:Händelser från Vingåkers OK
X-WR-CALDESC:Händelser från Vingåkers OK
REFRESH-INTERVAL;VALUE=DURATION:PT1440M
X-PUBLISHED-TTL:PT1440M
BEGIN:VTIMEZONE
TZID:Europe/Stockholm
BEGIN:STANDARD
DTSTART:20251026T030000Z
TZOFFSETFROM:+0200
TZOFFSETTO:+0100
END:STANDARD
BEGIN:DAYLIGHT
DTSTART:20260329T020000Z
TZOFFSETFROM:+0100
TZOFFSETTO:+0200
END:DAYLIGHT
BEGIN:STANDARD
DTSTART:20261025T030000Z
TZOFFSETFROM:+0200
TZOFFSETTO:+0100
END:STANDARD
END:VTIMEZONE
BEGIN:VTIMEZONE
TZID:UTC
BEGIN:STANDARD
DTSTART:20250729T185352Z
TZOFFSETFROM:+0000
TZOFFSETTO:+0000
END:STANDARD
END:VTIMEZONE
BEGIN:VEVENT
UID:247-151
DTSTAMP:20260425T185352Z
SUMMARY:TorsdagsTräning Högsättersbomen
LOCATION:Högsättersbomen 58°59\\'10.7\\\"N 15°53\\'01.4\\\"E  Vingåker
  Södermanlands län
ORGANIZER;CN=Christopher Andersson:MAILTO:chrille186@gmail.com
RRULE:FREQ=WEEKLY;UNTIL=20260430T000000Z
DTSTART;TZID=Europe/Stockholm:20260423T183000
DTEND;TZID=Europe/Stockholm:20260423T193000
X-ALT-DESC;FMTTYPE=TEXT/HTML:<p>Träning på veckans bana. För att säkers
 tälla att karta finns meddela Christopher 070-760 32 73 eller chrille186g
 mail.com.</p>\n
CATEGORIES:Ungdom/Vuxen Träning,  Veckans Bana
URL;VALUE=URI:https://vingakersok.se/?mc-events=torsdagstraning-hogsattersb
 omen&amp;mc_id=247
METHOD:PUBLISH
END:VEVENT
END:VCALENDAR