BEGIN:VCALENDAR
VERSION:2.0
PRODID:spatie/icalendar-generator
DESCRIPTION:Händelser från Vingåkers OK
X-WR-CALDESC:Händelser från Vingåkers OK
REFRESH-INTERVAL;VALUE=DURATION:PT1440M
X-PUBLISHED-TTL:PT1440M
BEGIN:VTIMEZONE
TZID:Europe/Stockholm
BEGIN:STANDARD
DTSTART:20251026T030000Z
TZOFFSETFROM:+0200
TZOFFSETTO:+0100
END:STANDARD
BEGIN:DAYLIGHT
DTSTART:20260329T020000Z
TZOFFSETFROM:+0100
TZOFFSETTO:+0200
END:DAYLIGHT
BEGIN:STANDARD
DTSTART:20261025T030000Z
TZOFFSETFROM:+0200
TZOFFSETTO:+0100
END:STANDARD
END:VTIMEZONE
BEGIN:VTIMEZONE
TZID:UTC
BEGIN:STANDARD
DTSTART:20250729T171037Z
TZOFFSETFROM:+0000
TZOFFSETTO:+0000
END:STANDARD
END:VTIMEZONE
BEGIN:VEVENT
UID:217-146
DTSTAMP:20260425T171037Z
SUMMARY:Strängnäsdubbeln medel (Strängnäs-Malmby OL)
LOCATION:
ORGANIZER;CN=Christopher Andersson:MAILTO:chrille186@gmail.com
DTSTART;TZID=Europe/Stockholm;VALUE=DATE:20260425
DTEND;TZID=Europe/Stockholm;VALUE=DATE:20260426
X-ALT-DESC;FMTTYPE=TEXT/HTML:<p>Om man vill åka i samlad trupp kommer vi f
 rån klubben att samlas vid Åbrogårdens parkering. OM man vill åka till
 sammans eller ha följare under banan\, samt låna si-pinne\, kompass\, de
 finitionshållare meddela Christopher på 070-760 32 73 eller chrille186@g
 mail.com.</p>\n
CATEGORIES:Tävlingar
URL;VALUE=URI:https://vingakersok.se/?mc-events=strangnasdubbeln-medel-stra
 ngnas-malmby-ol
METHOD:PUBLISH
END:VEVENT
END:VCALENDAR