BEGIN:VCALENDAR
VERSION:2.0
PRODID:spatie/icalendar-generator
DESCRIPTION:Händelser från Vingåkers OK
X-WR-CALDESC:Händelser från Vingåkers OK
REFRESH-INTERVAL;VALUE=DURATION:PT1440M
X-PUBLISHED-TTL:PT1440M
BEGIN:VTIMEZONE
TZID:Europe/Stockholm
BEGIN:STANDARD
DTSTART:20251026T030000Z
TZOFFSETFROM:+0200
TZOFFSETTO:+0100
END:STANDARD
BEGIN:DAYLIGHT
DTSTART:20260329T020000Z
TZOFFSETFROM:+0100
TZOFFSETTO:+0200
END:DAYLIGHT
END:VTIMEZONE
BEGIN:VTIMEZONE
TZID:UTC
BEGIN:STANDARD
DTSTART:20250729T170524Z
TZOFFSETFROM:+0000
TZOFFSETTO:+0000
END:STANDARD
END:VTIMEZONE
BEGIN:VEVENT
UID:214-143
DTSTAMP:20260425T170524Z
SUMMARY:Påsk-OL (Kjula IF)
LOCATION:
ORGANIZER;CN=Christopher Andersson:MAILTO:chrille186@gmail.com
DTSTART;TZID=Europe/Stockholm:20260403T000000
DTEND;TZID=Europe/Stockholm:20260403T010000
X-ALT-DESC;FMTTYPE=TEXT/HTML:<p>Om man vill åka i samlad trupp kommer vi f
 rån klubben att samlas vid Åbrogårdens parkering. OM man vill åka till
 sammans eller ha följare under banan\, samt låna si-pinne\, kompass\, de
 finitionshållare meddela Christopher på 070-760 32 73 eller chrille186@g
 mail.com.</p>\n
CATEGORIES:Tävlingar
URL;VALUE=URI:https://vingakersok.se/?mc-events=pask-ol-kjula-if
METHOD:PUBLISH
END:VEVENT
END:VCALENDAR