BEGIN:VCALENDAR
VERSION:2.0
PRODID:spatie/icalendar-generator
DESCRIPTION:Händelser från Vingåkers OK
X-WR-CALDESC:Händelser från Vingåkers OK
REFRESH-INTERVAL;VALUE=DURATION:PT1440M
X-PUBLISHED-TTL:PT1440M
BEGIN:VTIMEZONE
TZID:Europe/Stockholm
BEGIN:STANDARD
DTSTART:20251026T030000Z
TZOFFSETFROM:+0200
TZOFFSETTO:+0100
END:STANDARD
BEGIN:DAYLIGHT
DTSTART:20260329T020000Z
TZOFFSETFROM:+0100
TZOFFSETTO:+0200
END:DAYLIGHT
END:VTIMEZONE
BEGIN:VTIMEZONE
TZID:UTC
BEGIN:STANDARD
DTSTART:20250729T170453Z
TZOFFSETFROM:+0000
TZOFFSETTO:+0000
END:STANDARD
END:VTIMEZONE
BEGIN:VEVENT
UID:245-123
DTSTAMP:20260425T170453Z
SUMMARY:Minibanor
LOCATION:Säfstaholms slott Henalavägen 1\, 643 30 Vingåker  Vingåker S
 ödermanlands Län 643 30
ORGANIZER;CN=Christopher Andersson:MAILTO:chrille186@gmail.com
DTSTART;TZID=Europe/Stockholm;VALUE=DATE:20260331
DTEND;TZID=Europe/Stockholm;VALUE=DATE:20260401
X-ALT-DESC;FMTTYPE=TEXT/HTML:<p>Nytt intresse eller frågor samt frånvaro 
 meddela Christopher 070-760 32 73 eller chrille186@gmail.com<br />\n\"Läs
  mer\" för information om träningen.<br />\nVarmt Välkomna!</p>\n
CATEGORIES:Träning För Alla Åldrar,  Barn/Ungdoms Aktiviteter,  Ungdom/V
 uxen Träning
URL;VALUE=URI:https://vingakersok.se/?mc-events=minibanor
METHOD:PUBLISH
END:VEVENT
END:VCALENDAR