BEGIN:VCALENDAR
VERSION:2.0
PRODID:spatie/icalendar-generator
DESCRIPTION:Händelser från Vingåkers OK
X-WR-CALDESC:Händelser från Vingåkers OK
REFRESH-INTERVAL;VALUE=DURATION:PT1440M
X-PUBLISHED-TTL:PT1440M
BEGIN:VTIMEZONE
TZID:Europe/Stockholm
BEGIN:STANDARD
DTSTART:20251026T030000Z
TZOFFSETFROM:+0200
TZOFFSETTO:+0100
END:STANDARD
BEGIN:DAYLIGHT
DTSTART:20260329T020000Z
TZOFFSETFROM:+0100
TZOFFSETTO:+0200
END:DAYLIGHT
BEGIN:STANDARD
DTSTART:20261025T030000Z
TZOFFSETFROM:+0200
TZOFFSETTO:+0100
END:STANDARD
END:VTIMEZONE
BEGIN:VTIMEZONE
TZID:UTC
BEGIN:STANDARD
DTSTART:20250729T170524Z
TZOFFSETFROM:+0000
TZOFFSETTO:+0000
END:STANDARD
END:VTIMEZONE
BEGIN:VEVENT
UID:195-127
DTSTAMP:20260425T170524Z
SUMMARY:Ledstänger+OL-bana
LOCATION:Ödesäng (kraftledningen) 59°05\\'29.2\\\"N 15°54\\'07.1\\\"E  
  Vingåker Sodermanlands lan
ORGANIZER;CN=Christopher Andersson:MAILTO:chrille186@gmail.com
DTSTART;TZID=Europe/Stockholm:20260428T180000
DTEND;TZID=Europe/Stockholm:20260428T193000
X-ALT-DESC;FMTTYPE=TEXT/HTML:<p>Nytt intresse eller frågor samt frånvaro 
 meddela Christopher 070-760 32 73 eller chrille186@gmail.com<br />\n\"Läs
  mer\" för information om träningen.<br />\nVarmt Välkomna!</p>\n
CATEGORIES:Träning För Alla Åldrar,  Barn/Ungdoms Aktiviteter,  Ungdom/V
 uxen Träning
URL;VALUE=URI:https://vingakersok.se/?mc-events=ledstangerol-bana
METHOD:PUBLISH
END:VEVENT
END:VCALENDAR