BEGIN:VCALENDAR
VERSION:2.0
PRODID:spatie/icalendar-generator
DESCRIPTION:Händelser från Vingåkers OK
X-WR-CALDESC:Händelser från Vingåkers OK
REFRESH-INTERVAL;VALUE=DURATION:PT1440M
X-PUBLISHED-TTL:PT1440M
BEGIN:VTIMEZONE
TZID:Europe/Stockholm
BEGIN:STANDARD
DTSTART:20251026T030000Z
TZOFFSETFROM:+0200
TZOFFSETTO:+0100
END:STANDARD
BEGIN:DAYLIGHT
DTSTART:20260329T020000Z
TZOFFSETFROM:+0100
TZOFFSETTO:+0200
END:DAYLIGHT
BEGIN:STANDARD
DTSTART:20261025T030000Z
TZOFFSETFROM:+0200
TZOFFSETTO:+0100
END:STANDARD
END:VTIMEZONE
BEGIN:VTIMEZONE
TZID:UTC
BEGIN:STANDARD
DTSTART:20250729T191155Z
TZOFFSETFROM:+0000
TZOFFSETTO:+0000
END:STANDARD
END:VTIMEZONE
BEGIN:VEVENT
UID:197-129
DTSTAMP:20260425T191155Z
SUMMARY:Gena&amp;amp\;Snedda
LOCATION:Högsättersbomen 58°59\\'10.7\\\"N 15°53\\'01.4\\\"E  Vingåker
  Södermanlands län
ORGANIZER;CN=Christopher Andersson:MAILTO:chrille186@gmail.com
DTSTART;TZID=Europe/Stockholm:20260512T180000
DTEND;TZID=Europe/Stockholm:20260512T193000
X-ALT-DESC;FMTTYPE=TEXT/HTML:<p>Nytt intresse eller frågor samt frånvaro 
 meddela Christopher 070-760 32 73 eller chrille186@gmail.com<br />\n\"Läs
  mer\" för information om träningen.<br />\nVarmt Välkomna!</p>\n
CATEGORIES:Träning För Alla Åldrar,  Barn/Ungdoms Aktiviteter,  Ungdom/V
 uxen Träning
URL;VALUE=URI:https://vingakersok.se/?mc-events=genasnedda
METHOD:PUBLISH
END:VEVENT
END:VCALENDAR